BEGIN:VCALENDAR
VERSION:2.0
PRODID:-//Diamond Event Center - ECPv6.15.20//NONSGML v1.0//EN
CALSCALE:GREGORIAN
METHOD:PUBLISH
X-WR-CALNAME:Diamond Event Center
X-ORIGINAL-URL:https://diamondec.com
X-WR-CALDESC:Events for Diamond Event Center
REFRESH-INTERVAL;VALUE=DURATION:PT1H
X-Robots-Tag:noindex
X-PUBLISHED-TTL:PT1H
BEGIN:VTIMEZONE
TZID:Asia/Karachi
BEGIN:STANDARD
TZOFFSETFROM:+0500
TZOFFSETTO:+0500
TZNAME:PKT
DTSTART:20240101T000000
END:STANDARD
END:VTIMEZONE
BEGIN:VTIMEZONE
TZID:America/Indiana/Indianapolis
BEGIN:DAYLIGHT
TZOFFSETFROM:-0500
TZOFFSETTO:-0400
TZNAME:EDT
DTSTART:20240310T070000
END:DAYLIGHT
BEGIN:STANDARD
TZOFFSETFROM:-0400
TZOFFSETTO:-0500
TZNAME:EST
DTSTART:20241103T060000
END:STANDARD
BEGIN:DAYLIGHT
TZOFFSETFROM:-0500
TZOFFSETTO:-0400
TZNAME:EDT
DTSTART:20250309T070000
END:DAYLIGHT
BEGIN:STANDARD
TZOFFSETFROM:-0400
TZOFFSETTO:-0500
TZNAME:EST
DTSTART:20251102T060000
END:STANDARD
BEGIN:DAYLIGHT
TZOFFSETFROM:-0500
TZOFFSETTO:-0400
TZNAME:EDT
DTSTART:20260308T070000
END:DAYLIGHT
BEGIN:STANDARD
TZOFFSETFROM:-0400
TZOFFSETTO:-0500
TZNAME:EST
DTSTART:20261101T060000
END:STANDARD
END:VTIMEZONE
BEGIN:VEVENT
DTSTART;TZID=Asia/Karachi:20251030T160000
DTEND;TZID=Asia/Karachi:20251030T230000
DTSTAMP:20260423T024810
CREATED:20250421T062625Z
LAST-MODIFIED:20250421T062625Z
UID:61605-1761840000-1761865200@diamondec.com
SUMMARY:Learning Network Gala
DESCRIPTION:description…
URL:https://diamondec.com/event/2025-lnocc-gala/
LOCATION:IN
CATEGORIES:Fund Raiser
ATTACH;FMTTYPE=image/jpeg:https://diamondec.com/wp-content/uploads/2025/04/20250111_Diamond_Baile_L_001-scaled.jpg
END:VEVENT
BEGIN:VEVENT
DTSTART;TZID=America/Indiana/Indianapolis:20250919T150000
DTEND;TZID=America/Indiana/Indianapolis:20250920T000000
DTSTAMP:20260423T024810
CREATED:20250728T220536Z
LAST-MODIFIED:20250918T083135Z
UID:61694-1758294000-1758326400@diamondec.com
SUMMARY:Grand Opening
DESCRIPTION:We invite you to the ribbon cutting for the Diamond Event Center this Friday September 19. \n\n2:00 PM Venue Tour\n3:00 PM Ribbon Cutting\n\nMusic By Mariachi – Sol Jalicience\nFree Food by ____\n\n\n3:20 PM Wedding and Quinceañera Expo\n\nbook the services for your event.\n\n\n5:00 PM Dj Xtasis\n6:00 PM Quinceanera Dress Showcasing\n7:00 PM 50% discount giveaway to 2 of the clients that book their.\n8:30 PM DJ Vale\n10:00 PM Genetica Alacranera\n11:30 DJ Xtasis\n12:00 PM Los Bravos Del Sierreño Norteño\n2:00 AM Event ends.
URL:https://diamondec.com/event/grand-opening/
LOCATION:IN
CATEGORIES:Public Events
ATTACH;FMTTYPE=image/png:https://diamondec.com/wp-content/uploads/2025/04/Diamond-Event-Center-Logo-Black-Large-scaled.png
END:VEVENT
BEGIN:VEVENT
DTSTART;TZID=America/Indiana/Indianapolis:20250731T180000
DTEND;TZID=America/Indiana/Indianapolis:20250731T230000
DTSTAMP:20260423T024810
CREATED:20250730T212924Z
LAST-MODIFIED:20250730T212924Z
UID:61700-1753984800-1754002800@diamondec.com
SUMMARY:Ashley Kelly for Sheriff Presents: Country Night
DESCRIPTION:
URL:https://diamondec.com/event/ashley-kelly-for-sheriff-presents-country-night/
LOCATION:Diamond Event Center\, 2574 IN-39\, Frankfort\, IN\, 46041\, United States
CATEGORIES:Fund Raiser
ATTACH;FMTTYPE=image/jpeg:https://diamondec.com/wp-content/uploads/2025/07/Country-Night.jpg
END:VEVENT
END:VCALENDAR